BEGIN:VCALENDAR
PRODID:-//eluceo/ical//2.0/EN
VERSION:2.0
CALSCALE:GREGORIAN
BEGIN:VEVENT
UID:hey.bayern.675000.6398046
DTSTAMP:20260419T222749Z
SUMMARY:Evangelischer Gottesdienst
DTSTART;TZID=Europe/Berlin:20261220T093000
DTEND;TZID=Europe/Berlin:20261220T235959
LOCATION:Gaismairallee 19\, 5550 Radstadt\, Österreich
URL;VALUE=URI:https://lebenswerter-alpenraum.com/events/675000
END:VEVENT
END:VCALENDAR
