BEGIN:VCALENDAR
PRODID:-//eluceo/ical//2.0/EN
VERSION:2.0
CALSCALE:GREGORIAN
BEGIN:VEVENT
UID:hey.bayern.672475.6381552
DTSTAMP:20260424T010508Z
SUMMARY:Salzburger Museumswochenende in der Stadt Salzburg
DTSTART;TZID=Europe/Berlin:20260516T100000
DTEND;TZID=Europe/Berlin:20260516T235959
LOCATION:5020 Salzburg\, Österreich
GEO:47.805139;13.038069
X-APPLE-STRUCTURED-LOCATION;VALUE=URI;X-ADDRESS=5020 Salzburg\, Österreich
 ;X-APPLE-RADIUS=49;X-TITLE=:geo:47.805139,13.038069
URL;VALUE=URI:https://lebenswerter-alpenraum.com/events/672475
END:VEVENT
END:VCALENDAR
