BEGIN:VCALENDAR
PRODID:-//eluceo/ical//2.0/EN
VERSION:2.0
CALSCALE:GREGORIAN
BEGIN:VEVENT
UID:hey.bayern.668162.6553732
DTSTAMP:20260423T000534Z
SUMMARY:Open Tabakfabrik Day 2026
DTSTART;TZID=Europe/Berlin:20260522T100000
DTEND;TZID=Europe/Berlin:20260522T180000
LOCATION:Peter-Behrens-Platz 15\, 4020 Linz\, Österreich
GEO:48.311836;14.297462
X-APPLE-STRUCTURED-LOCATION;VALUE=URI;X-ADDRESS=Peter-Behrens-Platz 15\, 40
 20 Linz\, Österreich;X-APPLE-RADIUS=49;X-TITLE=:geo:48.311836,14.297462
URL;VALUE=URI:https://lebenswerter-alpenraum.com/events/668162
END:VEVENT
END:VCALENDAR
