BEGIN:VCALENDAR
PRODID:-//eluceo/ical//2.0/EN
VERSION:2.0
CALSCALE:GREGORIAN
BEGIN:VEVENT
UID:hey.bayern.667073.6305775
DTSTAMP:20260420T074114Z
SUMMARY:Ride & Learn für Fortgeschrittene am neuen Kirchberg Trail
DTSTART;TZID=Europe/Berlin:20260622T093000
DTEND;TZID=Europe/Berlin:20260622T143000
LOCATION:6365 Kirchberg in Tirol\, Österreich
GEO:47.449480;12.243440
X-APPLE-STRUCTURED-LOCATION;VALUE=URI;X-ADDRESS=6365 Kirchberg in Tirol\, 
 Österreich;X-APPLE-RADIUS=49;X-TITLE=:geo:47.449480,12.243440
URL;VALUE=URI:https://lebenswerter-alpenraum.com/events/667073
END:VEVENT
END:VCALENDAR
