BEGIN:VCALENDAR
PRODID:-//eluceo/ical//2.0/EN
VERSION:2.0
CALSCALE:GREGORIAN
BEGIN:VEVENT
UID:hey.bayern.666463.6294559
DTSTAMP:20260424T010508Z
SUMMARY:Ehrlich Brothers: Diamonds - Die besten Illusionen aus 10 Jahren
DTSTART;TZID=Europe/Berlin:20260517T110000
DTEND;TZID=Europe/Berlin:20260517T235959
LOCATION:5020 Salzburg\, Österreich
GEO:47.825257;13.027880
X-APPLE-STRUCTURED-LOCATION;VALUE=URI;X-ADDRESS=5020 Salzburg\, Österreich
 ;X-APPLE-RADIUS=49;X-TITLE=:geo:47.825257,13.027880
URL;VALUE=URI:https://lebenswerter-alpenraum.com/events/666463
END:VEVENT
END:VCALENDAR
