BEGIN:VCALENDAR
PRODID:-//eluceo/ical//2.0/EN
VERSION:2.0
CALSCALE:GREGORIAN
BEGIN:VEVENT
UID:hey.bayern.666097.6290666
DTSTAMP:20260420T074025Z
SUMMARY:Graveltour für Einsteiger und leicht Fortgeschrittene
DTSTART;TZID=Europe/Berlin:20260703T093000
DTEND;TZID=Europe/Berlin:20260703T143000
LOCATION:6365 Kirchberg in Tirol\, Österreich
URL;VALUE=URI:https://lebenswerter-alpenraum.com/events/666097
END:VEVENT
END:VCALENDAR
