BEGIN:VCALENDAR
PRODID:-//eluceo/ical//2.0/EN
VERSION:2.0
CALSCALE:GREGORIAN
BEGIN:VEVENT
UID:hey.bayern.665518.6275251
DTSTAMP:20260420T074112Z
SUMMARY:Graveltour für Einsteiger und leicht Fortgeschrittene
DTSTART;TZID=Europe/Berlin:20260626T093000
DTEND;TZID=Europe/Berlin:20260626T143000
LOCATION:6365 Kirchberg in Tirol\, Österreich
URL;VALUE=URI:https://lebenswerter-alpenraum.com/events/665518
END:VEVENT
END:VCALENDAR
