BEGIN:VCALENDAR
PRODID:-//eluceo/ical//2.0/EN
VERSION:2.0
CALSCALE:GREGORIAN
BEGIN:VEVENT
UID:hey.bayern.606223.6556736
DTSTAMP:20260423T000601Z
SUMMARY:HBLA für künstlerische Gestaltung
DTSTART;TZID=Europe/Berlin:20261010T190000
DTEND;TZID=Europe/Berlin:20261010T235900
LOCATION:Bismarckstraße 1\, 4020 Linz\, Österreich
GEO:48.299370;14.291270
X-APPLE-STRUCTURED-LOCATION;VALUE=URI;X-ADDRESS=Bismarckstraße 1\, 4020 Li
 nz\, Österreich;X-APPLE-RADIUS=49;X-TITLE=:geo:48.299370,14.291270
URL;VALUE=URI:https://lebenswerter-alpenraum.com/events/606223
END:VEVENT
END:VCALENDAR
