BEGIN:VCALENDAR
PRODID:-//eluceo/ical//2.0/EN
VERSION:2.0
CALSCALE:GREGORIAN
BEGIN:VEVENT
UID:hey.bayern.597019.6104083
DTSTAMP:20260421T080419Z
SUMMARY:Lehárvilla
DTSTART;TZID=Europe/Berlin:20251212T100000
DTEND;TZID=Europe/Berlin:20251212T170000
LOCATION:Lehárkai 8\, 4820 Bad Ischl\, Österreich
GEO:47.709545;13.621931
X-APPLE-STRUCTURED-LOCATION;VALUE=URI;X-ADDRESS=Lehárkai 8\, 4820 Bad Isch
 l\, Österreich;X-APPLE-RADIUS=49;X-TITLE=:geo:47.709545,13.621931
URL;VALUE=URI:https://lebenswerter-alpenraum.com/events/597019
END:VEVENT
END:VCALENDAR
