BEGIN:VCALENDAR
PRODID:-//eluceo/ical//2.0/EN
VERSION:2.0
CALSCALE:GREGORIAN
BEGIN:VEVENT
UID:hey.bayern.592581.6551061
DTSTAMP:20260422T102819Z
SUMMARY:Wöchentlicher Yoga Kurs
DTSTART;TZID=Europe/Berlin:20260706T170000
DTEND;TZID=Europe/Berlin:20260706T181500
LOCATION:Hauptstraße 52\, 5531 Eben im Pongau\, Österreich
GEO:47.408046;13.395164
X-APPLE-STRUCTURED-LOCATION;VALUE=URI;X-ADDRESS=Hauptstraße 52\, 5531 Eben
  im Pongau\, Österreich;X-APPLE-RADIUS=49;X-TITLE=:geo:47.408046,13.39516
 4
URL;VALUE=URI:https://lebenswerter-alpenraum.com/events/592581
END:VEVENT
END:VCALENDAR
