BEGIN:VCALENDAR
PRODID:-//eluceo/ical//2.0/EN
VERSION:2.0
CALSCALE:GREGORIAN
BEGIN:VEVENT
UID:hey.bayern.558413.6545241
DTSTAMP:20260419T223658Z
SUMMARY:Eisi Gulp "Tagebuch eines Komikers" Kabarett
DTSTART;TZID=Europe/Berlin:20260419T170000
DTEND;TZID=Europe/Berlin:20260419T235959
LOCATION:Jakob-Lechner-Weg 2 - 4\, 5071 Wals\, Österreich
URL;VALUE=URI:https://lebenswerter-alpenraum.com/events/558413
END:VEVENT
END:VCALENDAR
