BEGIN:VCALENDAR
PRODID:-//eluceo/ical//2.0/EN
VERSION:2.0
CALSCALE:GREGORIAN
BEGIN:VEVENT
UID:hey.bayern.558380.6545767
DTSTAMP:20260420T000205Z
SUMMARY:Akkordeon Vielharmonie Konzert
DTSTART;TZID=Europe/Berlin:20260509T193000
DTEND;TZID=Europe/Berlin:20260509T235959
LOCATION:Jakob-Lechner-Weg 2 - 4\, 5071 Wals\, Österreich
URL;VALUE=URI:https://lebenswerter-alpenraum.com/events/558380
END:VEVENT
END:VCALENDAR
