BEGIN:VCALENDAR
PRODID:-//eluceo/ical//2.0/EN
VERSION:2.0
CALSCALE:GREGORIAN
BEGIN:VEVENT
UID:hey.bayern.489632.6557018
DTSTAMP:20260423T155346Z
SUMMARY:Biketag und ARBÖ Kärnten Radmarathon "live"
DTSTART;TZID=Europe/Berlin:20260709T124500
DTEND;TZID=Europe/Berlin:20260710T124500
URL;VALUE=URI:https://lebenswerter-alpenraum.com/events/489632
END:VEVENT
END:VCALENDAR
