BEGIN:VCALENDAR
PRODID:-//eluceo/ical//2.0/EN
VERSION:2.0
CALSCALE:GREGORIAN
BEGIN:VEVENT
UID:hey.bayern.474470.6556985
DTSTAMP:20260423T050959Z
SUMMARY:Stadionführung Raiffeisen Arena Linz
DTSTART;TZID=Europe/Berlin:20260424T141500
DTEND;TZID=Europe/Berlin:20260424T235900
LOCATION:Ziegeleistraße 76a\, 4020 Linz\, Österreich
GEO:48.290749;14.277526
X-APPLE-STRUCTURED-LOCATION;VALUE=URI;X-ADDRESS=Ziegeleistraße 76a\, 4020 
 Linz\, Österreich;X-APPLE-RADIUS=49;X-TITLE=:geo:48.290749,14.277526
URL;VALUE=URI:https://lebenswerter-alpenraum.com/events/474470
END:VEVENT
END:VCALENDAR
