BEGIN:VCALENDAR
PRODID:-//eluceo/ical//2.0/EN
VERSION:2.0
CALSCALE:GREGORIAN
BEGIN:VEVENT
UID:hey.bayern.465048.4940880
DTSTAMP:20260422T115157Z
SUMMARY:Bauernhoferlebnis
DTSTART;TZID=Europe/Berlin:20260422T000000
DTEND;TZID=Europe/Berlin:20260422T235959
LOCATION:Wallingwinkl 6A\, 5441 Scheffau am Tennengebirge\, Österreich
URL;VALUE=URI:https://lebenswerter-alpenraum.com/events/465048
END:VEVENT
END:VCALENDAR
