BEGIN:VCALENDAR
PRODID:-//eluceo/ical//2.0/EN
VERSION:2.0
CALSCALE:GREGORIAN
BEGIN:VEVENT
UID:hey.bayern.398299.6557235
DTSTAMP:20260424T063813Z
SUMMARY:Antikmarkt\, Raritäten & Kurioses
DTSTART;TZID=Europe/Berlin:20261017T080000
DTEND;TZID=Europe/Berlin:20261017T130000
LOCATION:5541 Altenmarkt-Zauchensee\, Österreich
GEO:47.378287;13.423482
X-APPLE-STRUCTURED-LOCATION;VALUE=URI;X-ADDRESS=5541 Altenmarkt-Zauchensee\
 , Österreich;X-APPLE-RADIUS=49;X-TITLE=:geo:47.378287,13.423482
URL;VALUE=URI:https://lebenswerter-alpenraum.com/events/398299
END:VEVENT
END:VCALENDAR
