BEGIN:VCALENDAR
PRODID:-//eluceo/ical//2.0/EN
VERSION:2.0
CALSCALE:GREGORIAN
BEGIN:VEVENT
UID:hey.bayern.337565.6556734
DTSTAMP:20260423T000507Z
SUMMARY:Maturaball BG&BRG Khevenhüller
DTSTART;TZID=Europe/Berlin:20261017T190000
DTEND;TZID=Europe/Berlin:20261017T235900
LOCATION:Bismarckstraße 1\, 4020 Linz\, Österreich
GEO:48.299370;14.291270
X-APPLE-STRUCTURED-LOCATION;VALUE=URI;X-ADDRESS=Bismarckstraße 1\, 4020 Li
 nz\, Österreich;X-APPLE-RADIUS=49;X-TITLE=:geo:48.299370,14.291270
URL;VALUE=URI:https://lebenswerter-alpenraum.com/events/337565
END:VEVENT
END:VCALENDAR
